Workbook
Name BalanceRange: 'Loan Amortization'!$G$14:OFFSET('Loan Amortization'!$G$14,'Loan Amortization'!$B$3*'Loan Amortization'!$B$5,0)
Name BalanceRange: 'Loan Amortization 2nd Loan'!$G$14:OFFSET('Loan Amortization 2nd Loan'!$G$14,'Loan Amortization 2nd Loan'!$B$3*'Loan Amortization 2nd Loan'!$B$5,0)

Sheet Analysis Worksheet
A2: Property Analysis Worksheet
A3: Client Name: | F3: Prepared By: | G3: Steve Chader
A4: Property Address: Example | F4: List Price: | G4: 400000
A6: Purchase Terms | B6: 1. Fair Market Value: | C6: % | F6: 400000
B7: Discount % | F7: 0.02
B8: Purchase Price (max offer price) | F8: =(1-F7)*F6 -> 392000 | AD8: Purchase Price (max offer price) | AH8: =F8 -> 392000
B9: Percent Down | F9: 0.2 | AD9: Percent Down | AH9: 0.2
B10: Down Payment Amount | F10: =F8*F9 -> 78400 | AD10: Down Payment Amount | AH10: =AH8*AH9 -> 78400 | AK10: 1st
B11: Amount Financed | F11: =F8-F10 -> 313600 | AD11: Amount Financed | AH11: =AH8-AH10 -> 313600 | AK11: 2nd
B12: Interest Rate | F12: 0.07 | AD12: Interest Rate | AH12: =F12 -> 0.07
B13: Closing Costs (2%) | C13: 0.015 | F13: =C13*F8 -> 5880 | AD13: Closing Costs (2%) | AE13: 0.01 | AH13: =F13 -> 5880
B14: Cost of Repairs (make-ready) | F14: 0 | AD14: Cost of Repairs (make-ready) | AH14: =F14 -> 0
B15: Total Cash Invested | F15: =F14+F13+F10-F18 -> 64280 | AD15: Total Cash Invested | AH15: =AH14+AH13+AH10 -> 84280
B16: Length of Mortgage (years) | F16: 30 | AD16: Length of Mortgage (years) | AH16: 30
B17: Payments Per Year | F17: 12 | AD17: Payments Per Year | AH17: 12
B18: Policy Loan or HECL | F18: 20000 | AD18: =B18 -> Policy Loan or HECL
B19: Interest Rate | F19: 0.05 | AD19: =B19 -> Interest Rate
B20: Length of Mortgage (years) | F20: 30 | AD20: =B20 -> Length of Mortgage (years)
B21: Payments Per Year | F21: 12 | J21: What if your cash flow is negative | AD21: =B21 -> Payments Per Year
B22: Monthly Payment on #2 Loan | F22: =IF(E20="yes",'Loan Amortization 2nd Loan'!H3,'Loan Amortization 2nd Loan'!B6) -> 107.36432 | J22: Year One | K22: Monthly | L22: Annual | AD22: =B22 -> Monthly Payment on #2 Loan
AD23: =B23 -> 0
F24: Monthly | G24: Annual | J24: monthly cash flow | K24: =F59 -> -596.41962 | L24: =K24*12 -> -7157.0354 | AH24: Monthly | AI24: Annual
B25: Mortgage Payment | F25: =PMT(F12/F17,F16*F17,F11*-1)+F22 -> 2193.7529 | G25: =F25*12 -> 26325.035 | J25: loan Paydown | K25: =L25/12 -> 290.05439 | L25: ='ROI Analysis'!I4 -> 3480.6527 | AD25: Mortgage Payment | AH25: =PMT(AH12/AH17,AH16*AH17,AH11*-1) -> 2086.3886 | AI25: =AH25*12 -> 25036.663
A27: Operating Budget | B27: II. Rental Income | C27: % | F27: Monthly | G27: Annual | J27: Tax savings | K27: =L27/12 -> 190.06061 | L27: =F8*0.8/27.5*0.2 -> 2280.7273 | AD27: II. Rental Income | AE27: % | AH27: Monthly | AI27: Annual
B28: Unit A | E28: + | F28: 2300 | G28: =F28*12 -> 27600 | J28: Cash out of pocket | K28: =SUM(K24:K27) -> -116.30462 | L28: =SUM(L24:L27) -> -1395.6554 | AD28: Unit A | AG28: + | AH28: =F28 -> 2300 | AI28: =AH28*12 -> 27600
B29: Unit B | E29: + | F29: 0 | G29: =F29*12 -> 0 | J29: Property Appreciation | K29: =L29/12 -> 1333.3333 | L29: ='ROI Analysis'!N4 -> 16000 | M29: 0.04 | AD29: Unit B | AG29: + | AH29: =F29 -> 0 | AI29: =AH29*12 -> 0
B30: Unit C | E30: + | J30: Cost of Ownership | K30: =K28+K29 -> 1217.0287 | L30: =L28+L29 -> 14604.345 | AD30: Unit C | AG30: + | AH30: =F30 -> 0
B31: Unit D | E31: + | I31: This spreadsheet is a model for informational purposes only. It is not meant nor designed to represent what will happen with regards to interest rates, appreciation, rents or vacancy. It is not meant to be a substitute for your own judgement. Neither KellerINK nor the HOLD authors are responsible for errors. | AD31: Unit D | AG31: + | AH31: =F31 -> 0
B33: Gross Rental Income | E33: = | F33: =F31+F30+F29+F28 -> 2300 | G33: =SUM(G28:G31) -> 27600 | AD33: Gross Rental Income | AG33: = | AH33: =AH31+AH30+AH29+AH28 -> 2300 | AI33: =SUM(AI28:AI31) -> 27600
B34: Vacancy Rate | C34: 0 | E34: - | F34: =G34/12 -> 0 | G34: =G33*C34 -> 0 | AD34: Vacancy Rate | AE34: =C34 -> 0 | AG34: - | AH34: =AI34/12 -> 0 | AI34: =AI33*AE34 -> 0
B35: Net Rental Income | E35: = | F35: =F33-F34 -> 2300 | G35: =G33-G34 -> 27600 | AD35: Net Rental Income | AG35: = | AH35: =AH33-AH34 -> 2300 | AI35: =AI33-AI34 -> 27600
B37: III. Expenses | C37: % | F37: Monthly | G37: Annual | AD37: III. Expenses | AE37: % | AH37: Monthly | AI37: Annual
B38: Property Management Fees | C38: 0.08 | E38: + | F38: =C38*F33 -> 184 | G38: =F38*12 -> 2208 | AD38: Property Management Fees | AE38: 0.08 | AG38: + | AH38: =F38 -> 184 | AI38: =G38 -> 2208
B39: Leasing Fee (2 year lease) | C39: 0.02 | E39: + | F39: =F33*C39 -> 46 | G39: =F39*12 -> 552 | AD39: Leasing Fee | AG39: + | AH39: =F39 -> 46 | AI39: =G39 -> 552
B40: Maintenance Reserve (5%) | C40: 0.02 | E40: + | F40: =C40*F33 -> 46 | G40: =G35*C40 -> 552 | AD40: Maintenance Reserve (5%) | AE40: 0.03 | AG40: + | AH40: =F40 -> 46 | AI40: =G40 -> 552
B41: Utilities (when vacant) | E41: + | F41: 10 | G41: =F41*12 -> 120 | AD41: Utilities (when vacant) | AG41: + | AH41: =F41 -> 10 | AI41: =G41 -> 120
B42: Property Taxes | E42: + | F42: =G42/12 -> 166.66667 | G42: 2000 | AD42: Property Taxes | AG42: + | AH42: =F42 -> 166.66667 | AI42: =G42 -> 2000
B43: Insurance | E43: + | F43: =G43/12 -> 100 | G43: 1200 | AD43: Insurance | AG43: + | AH43: =F43 -> 100 | AI43: =G43 -> 1200
B44: Other (HOA fees, lawn care, etc.) | E44: + | F44: 150 | G44: =F44*12 -> 1800 | AD44: Other (HOA fees, lawn care, etc.) | AG44: + | AH44: =F44 -> 150 | AI44: =G44 -> 1800
B45: Other | E45: +
...

Sheet ROI Analysis
A2: Investment Return over Time
A3: Year | B3: Rent Appreciation Rate | C3: Gross Rents (Adjusted for Inflation) | D3: Vacancy | E3: Net Rental Income (Annual) | F3: Expenses Appreciation Rate | G3: Annual Expenses (Adjusted for Inflation) | H3: Net Operating Income (Annual) | I3: Annual Debt Pay Down (Principle Paid) | J3: Accumulated Debt Pay Down | K3: Annual Net Cash Flow (Annual) | L3: Property Value (Start of Year) | M3: Property Value Appreciation Rate | N3: Annual Appreciation (Value) | O3: Accumulated Appreciation | P3: Property Value (EOY) | Q3: Cost of Sale (COS) | R3: Total Mortgage Debt 1st | S3: Total Mortgage Debt 2nd | T3: Equity | U3: Accumulated Cash Flow | V3: Total Cash In | W3: Annual Total Return (Before COS) | X3: CAP Rate | Y3: Total ROI (Annual) | Z3: Cash on Cash ROI (Annual) | AA3: Total Return on Equity (Before COS) | AB3: Accumulated Total Return (Accumlated Debt Pay Down, Cash Flow & Appreciation) | AC3: Total ROI Based on Acc.Total Return | AD3: Accumulated Total Return (after COS) | AE3: Total ROI on Acc.Total Return (after COS) | AJ3: IRR (assuming sale at end of each period)
A4: 1 | B4: ='Analysis Worksheet'!C64 -> 0.02 | C4: ='Analysis Worksheet'!G33 -> 27600 | D4: ='Analysis Worksheet'!C34 -> 0 | E4: =C4-(C4*D4) -> 27600 | F4: ='Analysis Worksheet'!C63 -> 0.02 | G4: ='Analysis Worksheet'!G47 -> 8432 | H4: =E4-G4 -> 19168 | I4: ='Loan Amortization'!H26+'Loan Amortization 2nd Loan'!H26 -> 3480.6527 | J4: =I4 -> 3480.6527 | K4: =H4-'Analysis Worksheet'!G25 -> -7157.0354 | L4: ='Analysis Worksheet'!F6 -> 400000 | M4: ='Analysis Worksheet'!C65 -> 0.04 | N4: =L4*(1+M4)-L4 -> 16000 | O4: =N4 -> 16000 | P4: =L4+N4 -> 416000 | Q4: =P4*0.08 -> 33280 | R4: ='Loan Amortization'!G26 -> 310414.42 | S4: ='Loan Amortization 2nd Loan'!G26 -> 19704.927 | T4: =P4-R4-S4 -> 85880.653 | U4: =K4 -> -7157.0354 | V4: ='Analysis Worksheet'!F15 -> 64280 | W4: =I4+N4+K4 -> 12323.617 | X4: =H4/'Analysis Worksheet'!F6 -> 0.04792 | Y4: =W4/V4 -> 0.19171776 | Z4: =K4/V4 -> -0.11134156 | AA4: =W4/T4 -> 0.14349701 | AB4: =J4+O4+U4 -> 12323.617 | AC4: =AB4/V4 -> 0.19171776 | AD4: =J4+O4+U4-Q4 -> -20956.383 | AE4: =AD4/V4 -> -0.32601715 | AF4: =-'Analysis Worksheet'!F15 -> -64280 | AG4: total cash invested | AJ4: =-'Analysis Worksheet'!F15 -> -64280 | AK4: total cash invested | AN4: =-'Analysis Worksheet'!F15 -> -64280 | AO4: total cash invested | AR4: =-'Analysis Worksheet'!F15 -> -64280 | AS4: total cash invested
A5: 2 | B5: ='Analysis Worksheet'!C64 -> 0.02 | C5: =(C4*B5)+C4 -> 28152 | D5: ='Analysis Worksheet'!C34 -> 0 | E5: =C5-(C5*D5) -> 28152 | F5: ='Analysis Worksheet'!C63 -> 0.02 | G5: =(G4*F4)+G4 -> 8600.64 | H5: =E5-G5 -> 19551.36 | I5: ='Loan Amortization'!H38+'Loan Amortization 2nd Loan'!H38 -> 3726.035 | J5: =I5+J4 -> 7206.6877 | K5: =H5-'Analysis Worksheet'!G25 -> -6773.6754 | L5: =P4 -> 416000 | M5: ='Analysis Worksheet'!C65 -> 0.04 | N5: =L5*(1+M5)-L5 -> 16640 | O5: =N5+O4 -> 32640 | P5: =L5+N5 -> 432640 | Q5: =P5*0.08 -> 34611.2 | R5: ='Loan Amortization'!G38 -> 306998.55 | S5: ='Loan Amortization 2nd Loan'!G38 -> 19394.757 | T5: =P5-R5-S5 -> 106246.69 | U5: =U4+K5 -> -13930.711 | V5: ='Analysis Worksheet'!F15 -> 64280 | W5: =I5+N5+K5 -> 13592.36 | X5: =H5/'Analysis Worksheet'!F6 -> 0.0488784 | Y5: =W5/V5 -> 0.2114555 | Z5: =K5/V5 -> -0.10537765 | AA5: =W5/T5 -> 0.12793208 | AB5: =J5+O5+U5 -> 25915.977 | AC5: =AB5/V5 -> 0.40317326 | AD5: =J5+O5+U5-Q5 -> -8695.2231 | AE5: =AD5/V5 -> -0.13527105 | AF5: =K4+AI7 -> 45443.617 | AG5: yr1 cash flow + net | AH5: Sale price | AI5: =P4 -> 416000 | AJ5: =K4 -> -7157.0354 | AK5: yr1 cash flow | AL5: Sale price | AM5: =P8 -> 486661.16 | AN5: =K4 -> -7157.0354 | AO5: yr1 cash flow | AP5: Sale price | AQ5: =P13 -> 592097.71 | AR5: =K4 -> -7157.0354 | AS5: yr1 cash flow | AT5: Sale price | AU5: =P18 -> 720377.4
A6: 3 | B6: ='Analysis Worksheet'!C64 -> 0.02 | C6: =(C5*B6)+C5 -> 28715.04 | D6: ='Analysis Worksheet'!C34 -> 0 | E6: =C6-(C6*D6) -> 28715.04 | F6: ='Analysis Worksheet'!C63 -> 0.02 | G6: =(G5*F5)+G5 -> 8772.6528 | H6: =E6-G6 -> 19942.387 | I6: ='Loan Amortization'!H50+'Loan Amortization 2nd Loan'!H50 -> 3988.8371 | J6: =I6+J5 -> 11195.525 | K6: =H6-'Analysis Worksheet'!G25 -> -6382.6482 | L6: =P5 -> 432640 | M6: ='Analysis Worksheet'!C65 -> 0.04 | N6: =L6*(1+M6)-L6 -> 17305.6 | O6: =N6+O5 -> 49945.6 | P6: =L6+N6 -> 449945.6 | Q6: =P6*0.08 -> 35995.648 | R6: ='Loan Amortization'!G50 -> 303335.76 | S6: ='Loan Amortization 2nd Loan'!G50 -> 19068.719 | T6: =P6-R6-S6 -> 127541.12 | U6: =U5+K6 -> -20313.359 | V6: ='Analysis Worksheet'!F15 -> 64280 | W6: =I6+N6+K6 -> 14911.789 | X6: =H6/'Analysis Worksheet'!F6 -> 0.049855968 | Y6: =W6/V6 -> 0.23198178 | Z6: =K6/V6 -> -0.099294465 | AA6: =W6/T6 -> 0.1169175 | AB6: =J6+O6+U6 -> 40827.766 | AC6: =AB6/V6 -> 0.63515504 | AD6: =J6+O6+U6-Q6 -> 4832.1178 | AE6: =AD6/V6 -> 0.075172958 | AH6: minus COS | AI6: =AI5*0.08 -> 33280 | AJ6: =K5 -> -6773.6754 | AK6: yr2 | AL6: minus COS | AM6: =Q9 -> 40490.209 | AN6: =K5 -> -6773.6754 | AO6: yr2 | AP6: minus COS | AQ6: =Q14 -> 49262.53 | AR6: =K5 -> -6773.6754 | AS6: yr2 | AT6: minus COS | AU6: =Q18 -> 57630.192
A7: 4 | B7: ='Analysis Worksheet'!C64 -> 0.02 | C7: =(C6*B7)+C6 -> 29289.341 | D7: ='Analysis Worksheet'!C34 -> 0 | E7: =C7-(C7*D7) -> 29289.341 | F7: ='Analysis Worksheet'!C63 -> 0.02 | G7: =(G6*F6)+G6 -> 8948.1059 | H7: =E7-G7 -> 20341.235 | I7: ='Loan Amortization'!H62+'Loan Amortization 2nd Loan'!H62 -> 4270.3018 | J7: =I7+J6 -> 15465.827 | K7: =H7-'Analysis Worksheet'!G25 -> -5983.8004 | L7: =P6 -> 449945.6 | M7: ='Analysis Worksheet'!C65 -> 0.04 | N7: =L7*(1+M7)-L7 -> 17997.824 | O7: =N7+O6 -> 67943.424 | P7: =L7+N7 -> 467943.42 | Q7: =P7*0.08 -> 37435.474 | R7: ='Loan Amortization'!G62 -> 299408.17 | S7: ='Loan Amortization 2nd Loan'!G62 -> 18726 | T7: =P7-R7-S7 -> 149809.25 | U7: =U6+K7 -> -26297.159 | V7: ='Analysis Worksheet'!F15 -> 64280 | W7: =I7+N7+K7 -> 16284.325 | X7: =H7/'Analysis Worksheet'!F6 -> 0.050853087 | Y7: =W7/V7 -> 0.25333425 | Z7: =K7/V7 -> -0.093089615 | AA7: =W7/T7 -> 0.1087004 | AB7: =J7+O7+U7 -> 57112.091 | AC7: =AB7/V7 -> 0.88848928 | AD7: =J7+O7+U7-Q7 -> 19676.617 | AE7: =AD7/V7 -> 0.30610792 | AH7: Net | AI7: =AI5-AI6-R4-S4 -> 52600.653 | AJ7: =K6 -> -6382.6482 | AK7: yr3 | AL7: Net | AM7: =AM5-AM6-R8-S8 -> 132608.54 | AN7: =K6 -> -6382.6482 | AO7: yr3 | AP7: Net | AQ7: =AQ5-AQ6-R13-S13 -> 257459.14 | AR7: =K6 -> -6382.6482 | AS7: yr3 | AT7: Net | AU7: =AU5-AU6-R18-S18 -> 417047.26
A8: 5 | B8: ='Analysis Worksheet'!C64 -> 0.02 | C8: =(C7*B8)+C7 -> 29875.128 | D8: ='Analysis Worksheet'!C34 -> 0 | E8: =C8-(C8*D8) -> 29875.128 | F8: ='Analysis Worksheet'!C63 -> 0.02 | G8: =(G7*F7)+G7 -> 9127.068 | H8: =E8-G8 -> 20748.06 | I8: ='Loan Amortization'!H74+'Loan Amortization 2nd Loan'!H74 -> 4571.7612 | J8: =I8+J7 -> 20037.588 | K8: =H8-'Analysis Worksheet'!G25 -> -5576.9758 | L8: =P7 -> 467943.42 | M8: ='Analysis Worksheet'!C65 -> 0.04 | N8: =L8*(1+M8)-L8 -> 18717.737 | O8: =N8+O7 -> 86661.161 | P8: =L8+N8 -> 486661.16 | Q8: =P8*0.08 -> 38932.893 | R8: ='Loan Amortization'!G74 -> 295196.67 | S8: ='Loan Amortization 2nd Loan'!G74 -> 18365.746 | T8: =P8-R8-S8 -> 173098.75 | U8: =U7+K8 -> -31874.135 | V8: ='Analysis Worksheet'!F15 -> 64280 | W8: =I8+N8+K8 -> 17712.522 | X8: =H8/'Analysis Worksheet'!F6 -> 0.051870149 | Y8: =W8/V8 -> 0.27555262 | Z8: =K8/V8 -> -0.086760668 | AA8: =W8/T8 -> 0.10232611 | AB8: =J8+O8+U8 -> 74824.614 | AC8: =AB8/V8 -> 1.1640419 | AD8: =J8+O8+U8-Q8 -> 35891.721 | AE8: =AD8/V8 -> 0.55836529 | AJ8: =K7 -> -5983.8004 | AK8: yr4 | AN8: =K7 -> -5983.8004 | AO8: yr4 | AR8: =K7 -> -5983.8004 | AS8: yr4
A9: 6 | B9: ='Analysis Worksheet'!C64 -> 0.02 | C9: =(C8*B9)+C8 -> 30472.63 | D9: ='Analysis Worksheet'!C34 -> 0 | E9: =C9-(C9*D9) -> 30472.63 | F9: ='Analysis Worksheet'!C63 -> 0.02 | G9: =(G8*F8)+G8 -> 9309.6093 | H9: =E9-G9 -> 21163.021 | I9: ='Loan Amortization'!H86+'Loan Amortization 2nd Loan'!H86 -> 4894.6427 | J9: =I9+J8 -> 24932.231 | K9: =H9-'Analysis Worksheet'!G25 -> -5162.0146 | L9: =P8 -> 486661.16 | M9: ='Analysis Worksheet'!C65 -> 0.04 | N9: =L9*(1+M9)-L9 -> 19466.446 | O9: =N9+O8 -> 106127.61 | P9: =L9+N9 -> 506127.61 | Q9: =P9*0.08 -> 40490.209 | R9: ='Loan Amortization'!G86 -> 290680.71 | S9: ='Loan Amortization 2nd Loan'!G86 -> 17987.062 | T9: =P9-R9-S9 -> 197459.84 | U9: =U8+K9 -> -37036.15 | V9: ='Analysis Worksheet'!F15 -> 64280 | W9: =I9+N9+K9 -> 19199.075 | X9: =H9/'Analysis Worksheet'!F6 -> 0.052907552 | Y9: =W9/V9 -> 0.29867882 | Z9: =K9/V9 -> -0.080305142 | AA9: =W9/T9 -> 0.097230276 | AB9: =J9+O9+U9 -> 94023.688 | AC9: =AB9/V9 -> 1.4627207 | AD9: =J9+O9+U9-Q9 -> 53533.48 | AE9: =AD9/V9 -> 0.83281704 | AJ9: =K8+AM7 -> 127031.56 | AK9: yr5 plus net | AN9: =K8 -> -5576.9758 | AO9: yr5 | AR9: =K8 -> -5576.9758 | AS9: yr5
A10: 7 | B10: ='Analysis Worksheet'!C64 -> 0.02 | C10: =(C9*B10)+C9 -> 31082.083 | D10: ='Analysis Worksheet'!C34 -> 0 | E10: =C10-(C10*D10) -> 31082.083 | F10: ='Analysis Worksheet'!C63 -> 0.02 | G10: =(G9*F9)+G9 -> 9495.8015 | H10: =E10-G10 -> 21586.281 | I10: ='Loan Amortization'!H98+'Loan Amortization 2nd Loan'!H98 -> 5240.4759 | J10: =I10+J9 -> 30172.706 | K10: =H10-'Analysis Worksheet'!G25 -> -4738.7541 | L10: =P9 -> 506127.61 | M10: ='Analysis Worksheet'!C65 -> 0.04 | N10: =L10*(1+M10)-L10 -> 20245.104 | O10: =N10+O9 -> 126372.71 | P10: =L10+N10 -> 526372.71 | Q10: =P10*0.08 -> 42109.817 | R10: ='Loan Amortization'!G98 -> 285838.29 | S10: ='Loan Amortization 2nd Loan'!G98 -> 17589.003 | T10: =P10-R10-S10 -> 222945.42 | U10: =U9+K10 -> -41774.904 | V10: ='Analysis Worksheet'!F15 -> 64280 | W10: =I10+N10+K10 -> 20746.826 | X10: =H10/'Analysis Worksheet'!F6 -> 0.053965703 | Y10: =W10/V10 -> 0.3227571 | Z10: =K10/V10 -> -0.073720506 | AA10: =W10/T10 -> 0.093057872 | AB10: =J10+O10+U10 -> 114770.51 | AC10: =AB10/V10 -> 1.7854778 | AD10: =J10+O10+U10-Q10 -> 72660.697 | AE10: =AD10/V10 -> 1.130378 | AN10: =K9 -> -5162.0146 | AO10: yr6 | AR10: =K9 -> -5162.0146 | AS10: yr6
A11: 8 | B11: ='Analysis Worksheet'!C64 -> 0.02 | C11: =(C10*B11)+C10 -> 31703.724 | D11: ='Analysis Worksheet'!C34 -> 0 | E11: =C11-(C11*D11) -> 31703.724 | F11: ='Analysis Worksheet'!C63 -> 0.02 | G11: =(G10*F10)+G10 -> 9685.7175 | H11: =E11-G11 -> 22018.007 | I11: ='Loan Amortization'!H110+'Loan Amortization 2nd Loan'!H110 -> 5610.9001 | J11: =I11+J10 -> 35783.607 | K11: =H11-'Analysis Worksheet'!G25 -> -4307.0285 | L11: =P10 -> 526372.71 | M11: ='Analysis Worksheet'!C65 -> 0.04 | N11: =L11*(1+M11)-L11 -> 21054.908 | O11: =N11+O10 -> 147427.62 | P11: =L11+N11 -> 547427.62 | Q11: =P11*0.08 -> 43794.21 | R11: ='Loan Amortization'!G110 -> 280645.81 | S11: ='Loan Amortization 2nd Loan'!G110 -> 17170.579 | T11: =P11-R11-S11 -> 249611.23 | U11: =U10+K11 -> -46081.932 | V11: ='Analysis Worksheet'!F15 -> 64280 | W11: =I11+N11+K11 -> 22358.78 | X11: =H11/'Analysis Worksheet'!F6 -> 0.055045017 | Y11: =W11/V11 -> 0.34783416 | Z11: =K11/V11 -> -0.067004177 | AA11: =W11/T11 -> 0.089574417 | AB11: =J11+O11+U11 -> 137129.29 | AC11: =AB11/V11 -> 2.133312 | AD11: =J11+O11+U11-Q11 -> 93335.085 | AE11: =AD11/V11 -> 1.4520082 | AN11: =K10 -> -4738.7541 | AO11: yr7 | AR11: =K10 -> -4738.7541 | AS11: yr7
A12: 9 | B12: ='Analysis Worksheet'!C64 -> 0.02 | C12: =(C11*B12)+C11 -> 32337.799 | D12: ='Analysis Worksheet'!C34 -> 0 | E12: =C12-(C12*D12) -> 32337.799 | F12: ='Analysis Worksheet'!C63 -> 0.02 | G12: =(G11*F11)+G11 -> 9879.4319 | H12: =E12-G12 -> 22458.367 | I12: ='Loan Amortization'!H122+'Loan Amortization 2nd Loan'!H122 -> 6007.672 | J12: =I12+J11 -> 41791.279 | K12: =H12-'Analysis Worksheet'!G25 -> -3866.6684 | L12: =P11 -> 547427.62 | M12: ='Analysis Worksheet'!C65 -> 0.04 | N12: =L12*(1+M12)-L12 -> 21897.105 | O12: =N12+O11 -> 169324.72 | P12: =L12+N12 -> 569324.72 | Q12: =P12*0.08 -> 45545.978 | R12: ='Loan Amortization'!G122 -> 275077.97 | S12: ='Loan Amortization 2nd Loan'!G122 -> 16730.747 | T12: =P12-R12-S12 -> 277516 | U12: =U11+K12 -> -49948.601 | V12: ='Analysis Worksheet'!F15 -> 64280 | W12: =I12+N12+K12 -> 24038.108 | X12: =H12/'Analysis Worksheet'!F6 -> 0.056145918 | Y12: =W12/V12 -> 0.37395937 | Z12: =K12/V12 -> -0.060153522 | AA12: =W12/T12 -> 0.086618819 | AB12: =J12+O12+U12 -> 161167.4 | AC12: =AB12/V12 -> 2.5072714 | AD12: =J12+O12+U12-Q12 -> 115621.42 | AE12: =AD12/V12 -> 1.7987154 | AN12: =K11 -> -4307.0285 | AO12: yr8 | AR12: =K11 -> -4307.0285 | AS12: yr8
A13: 10 | B13: ='Analysis Worksheet'!C64 -> 0.02 | C13: =(C12*B13)+C12 -> 32984.555 | D13: ='Analysis Worksheet'!C34 -> 0 | E13: =C13-(C13*D13) -> 32984.555 | F13: ='Analysis Worksheet'!C63 -> 0.02 | G13: =(G12*F12)+G12 -> 10077.021 | H13: =E13-G13 -> 22907.534 | I13: ='Loan Amortization'!H134+'Loan Amortization 2nd Loan'!H134 -> 6432.6742 | J13: =I13+J12 -> 48223.953 | K13: =H13-'Analysis Worksheet'!G25 -> -3417.501 | L13: =P12 -> 569324.72 | M13: ='Analysis Worksheet'!C65 -> 0.04 | N13: =L13*(1+M13)-L13 -> 22772.989 | O13: =N13+O12 -> 192097.71 | P13: =L13+N13 -> 592097.71 | Q13: =P13*0.08 -> 47367.817 | R13: ='Loan Amortization'!G134 -> 269107.63 | S13: ='Loan Amortization 2nd Loan'!G134 -> 16268.413 | T13: =P13-R13-S13 -> 306721.67 | U13: =U12+K13 -> -53366.102 | V13: ='Analysis Worksheet'!F15 -> 64280 | W13: =I13+N13+K13 -> 25788.162 | X13: =H13/'Analysis Worksheet'!F6 -> 0.057268836 | Y13: =W13/V13 -> 0.40118485 | Z13: =K13/V13 -> -0.053165853 | AA13: =W13/T13 -> 0.084076754 | AB13: =J13+O13+U13 -> 186955.56 | AC13: =AB13/V13 -> 2.9084562 | AD13: =J13+O13+U13-Q13 -> 139587.75 | AE13: =AD13/V13 -> 2.171558 | AN13: =K12 -> -3866.6684 | AO13: yr9 | AR13: =K12 -> -3866.6684 | AS13: yr9
A14: 11 | B14: ='Analysis Worksheet'!C64 -> 0.02 | C14: =(C13*B14)+C13 -> 33644.246 | D14: ='Analysis Worksheet'!C34 -> 0 | E14: =C14-(C14*D14) -> 33644.246 | F14: ='Analysis Worksheet'!C63 -> 0.02 | G14: =(G13*F13)+G13 -> 10278.561 | H14: =E14-G14 -> 23365.685 | I14: ='Loan Amortization'!H146+'Loan Amortization 2nd Loan'!H146 -> 6887.9245 | J14: =I14+J13 -> 55111.877 | K14: =H14-'Analysis Worksheet'!G25 -> -2959.3504 | L14: =P13 -> 592097.71 | M14: ='Analysis Worksheet'!C65 -> 0.04 | N14: =L14*(1+M14)-L14 -> 23683.909 | O14: =N14+O13 -> 215781.62 | P14: =L14+N14 -> 615781.62 | Q14: =P14*0.08 -> 49262.53 | R14: ='Loan Amortization'!G146 -> 262705.7 | S14: ='Loan Amortization 2nd Loan'!G146 -> 15782.425 | T14: =P14-R14-S14 -> 337293.5 | U14: =U13+K14 -> -56325.452 | V14: ='Analysis Worksheet'!F15 -> 64280 | W14: =I14+N14+K14 -> 27612.483 | X14: =H14/'Analysis Worksheet'!F6 -> 0.058414213 | Y14: =W14/V14 -> 0.42956569 | Z14: =K14/V14 -> -0.046038431 | AA14: =W14/T14 -> 0.081864853 | AB14: =J14+O14+U14 -> 214568.05 | AC14: =AB14/V14 -> 3.3380219 | AD14: =J14+O14+U14-Q14 -> 165305.52 | AE14: =AD14/V14 -> 2.5716478 | AN14: =K13+AQ7 -> 254041.64 | AO14: yr10 plus net | AR14: =K13 -> -3417.501 | AS14: yr10
A15: 12 | B15: ='Analysis Worksheet'!C64 -> 0.02 | C15: =(C14*B15)+C14 -> 34317.131 | D15: ='Analysis Worksheet'!C34 -> 0 | E15: =C15-(C15*D15) -> 34317.131 | F15: ='Analysis Worksheet'!C63 -> 0.02 | G15: =(G14*F14)+G14 -> 10484.132 | H15: =E15-G15 -> 23832.999 | I15: ='Loan Amortization'!H158+'Loan Amortization 2nd Loan'!H158 -> 7375.5851 | J15: =I15+J14 -> 62487.462 | K15: =H15-'Analysis Worksheet'!G25 -> -2492.0367 | L15: =P14 -> 615781.62 | M15: ='Analysis Worksheet'!C65 -> 0.04 | N15: =L15*(1+M15)-L15 -> 24631.265 | O15: =N15+O14 -> 240412.89 | P15: =L15+N15 -> 640412.89 | Q15: =P15*0.08 -> 51233.031 | R15: ='Loan Amortization'!G158 -> 255840.97 | S15: ='Loan Amortization 2nd Loan'!G158 -> 15271.573 | T15: =P15-R15-S15 -> 369300.35 | U15: =U14+K15 -> -58817.489 | V15: ='Analysis Worksheet'!F15 -> 64280 | W15: =I15+N15+K15 -> 29514.813 | X15: =H15/'Analysis Worksheet'!F6 -> 0.059582497 | Y15: =W15/V15 -> 0.45916013 | Z15: =K15/V15 -> -0.038768461 | AA15: =W15/T15 -> 0.079920892 | AB15: =J15+O15+U15 -> 244082.86 | AC15: =AB15/V15 -> 3.797182 | AD15: =J15+O15+U15-Q15 -> 192849.83 | AE15: =AD15/V15 -> 3.0001529 | AR15: =K14 -> -2959.3504 | AS15: yr11
A16: 13 | B16: ='Analysis Worksheet'!C64 -> 0.02 | C16: =(C15*B16)+C15 -> 35003.474 | D16: ='Analysis Worksheet'!C34 -> 0 | E16: =C16-(C16*D16) -> 35003.474 | F16: ='Analysis Worksheet'!C63 -> 0.02 | G16: =(G15*F15)+G15 -> 10693.815 | H16: =E16-G16 -> 24309.659 | I16: ='Loan Amortization'!H170+'Loan Amortization 2nd Loan'!H170 -> 7897.9733 | J16: =I16+J15 -> 70385.436 | K16: =H16-'Analysis Worksheet'!G25 -> -2015.3767 | L16: =P15 -> 640412.89 | M16: ='Analysis Worksheet'!C65 -> 0.04 | N16: =L16*(1+M16)-L16 -> 25616.515 | O16: =N16+O15 -> 266029.4 | P16: =L16+N16 -> 666029.4 | Q16: =P16*0.08 -> 53282.352 | R16: ='Loan Amortization'!G170 -> 248479.98 | S16: ='Loan Amortization 2nd Loan'!G170 -> 14734.584 | T16: =P16-R16-S16 -> 402814.84 | U16: =U15+K16 -> -60832.865 | V16: ='Analysis Worksheet'!F15 -> 64280 | W16: =I16+N16+K16 -> 31499.112 | X16: =H16/'Analysis Worksheet'!F6 -> 0.060774147 | Y16: =W16/V16 -> 0.49002975 | Z16: =K16/V16 -> -0.031353091 | AA16: =W16/T16 -> 0.078197497 | AB16: =J16+O16+U16 -> 275581.97 | AC16: =AB16/V16 -> 4.2872118 | AD16: =J16+O16+U16-Q16 -> 222299.62 | AE16: =AD16/V16 -> 3.4583015 | AR16: =K15 -> -2492.0367 | AS16: yr12
A17: 14 | B17: ='Analysis Worksheet'!C64 -> 0.02 | C17: =(C16*B17)+C16 -> 35703.543 | D17: ='Analysis Worksheet'!C34 -> 0 | E17: =C17-(C17*D17) -> 35703.543 | F17: ='Analysis Worksheet'!C63 -> 0.02 | G17: =(G16*F16)+G16 -> 10907.691 | H17: =E17-G17 -> 24795.852 | I17: ='Loan Amortization'!H182+'Loan Amortization 2nd Loan'!H182 -> 8457.5729 | J17: =I17+J16 -> 78843.008 | K17: =H17-'Analysis Worksheet'!G25 -> -1529.1835 | L17: =P16 -> 666029.4 | M17: ='Analysis Worksheet'!C65 -> 0.04 | N17: =L17*(1+M17)-L17 -> 26641.176 | O17: =N17+O16 -> 292670.58 | P17: =L17+N17 -> 692670.58 | Q17: =P17*0.08 -> 55413.646 | R17: ='Loan Amortization'!G182 -> 240586.87 | S17: ='Loan Amortization 2nd Loan'!G182 -> 14170.122 | T17: =P17-R17-S17 -> 437913.59 | U17: =U16+K17 -> -62362.049 | V17: ='Analysis Worksheet'!F15 -> 64280 | W17: =I17+N17+K17 -> 33569.565 | X17: =H17/'Analysis Worksheet'!F6 -> 0.06198963 | Y17: =W17/V17 -> 0.52223966 | Z17: =K17/V17 -> -0.023789414 | AA17: =W17/T17 -> 0.076657967 | AB17: =J17+O17+U17 -> 309151.54 | AC17: =AB17/V17 -> 4.8094514 | AD17: =J17+O17+U17-Q17 -> 253737.89 | AE17: =AD17/V17 -> 3.9473848 | AR17: =K16 -> -2015.3767 | AS17: yr13
A18: 15 | B18: ='Analysis Worksheet'!C64 -> 0.02 | C18: =(C17*B18)+C17 -> 36417.614 | D18: ='Analysis Worksheet'!C34 -> 0 | E18: =C18-(C18*D18) -> 36417.614 | F18: ='Analysis Worksheet'!C63 -> 0.02 | G18: =(G17*F17)+G17 -> 11125.845 | H18: =E18-G18 -> 25291.769 | I18: ='Loan Amortization'!H194+'Loan Amortization 2nd Loan'!H194 -> 9057.0454 | J18: =I18+J17 -> 87900.054 | K18: =H18-'Analysis Worksheet'!G25 -> -1033.2665 | L18: =P17 -> 692670.58 | M18: ='Analysis Worksheet'!C65 -> 0.04 | N18: =L18*(1+M18)-L18 -> 27706.823 | O18: =N18+O17 -> 320377.4 | P18: =L18+N18 -> 720377.4 | Q18: =P18*0.08 -> 57630.192 | R18: ='Loan Amortization'!G194 -> 232123.16 | S18: ='Loan Amortization 2nd Loan'!G194 -> 13576.782 | T18: =P18-R18-S18 -> 474677.46 | U18: =U17+K18 -> -63395.315 | V18: ='Analysis Worksheet'!F15 -> 64280 | W18: =I18+N18+K18 -> 35730.602 | X18: =H18/'Analysis Worksheet'!F6 -> 0.063229422 | Y18: =W18/V18 -> 0.55585878 | Z18: =K18/V18 -> -0.016074463 | AA18: =W18/T18 -> 0.075273434 | AB18: =J18+O18+U18 -> 344882.14 | AC18: =AB18/V18 -> 5.3653102 | AD18: =J18+O18+U18-Q18 -> 287251.95 | AE18: =AD18/V18 -> 4.4687609 | AR18: =K17 -> -1529.1835 | AS18: yr14
A19: 16 | B19: ='Analysis Worksheet'!C64 -> 0.02 | C19: =(C18*B19)+C18 -> 37145.966 | D19: ='Analysis Worksheet'!C34 -> 0 | E19: =C19-(C19*D19) -> 37145.966 | F19: ='Analysis Worksheet'!C63 -> 0.02 | G19: =(G18*F18)+G18 -> 11348.362 | H19: =E19-G19 -> 25797.604 | I19: ='Loan Amortization'!H206+'Loan Amortization 2nd Loan'!H206 -> 9699.2438 | J19: =I19+J18 -> 97599.298 | K19: =H19-'Analysis Worksheet'!G25 -> -527.43108 | L19: =P18 -> 720377.4 | M19: ='Analysis Worksheet'!C65 -> 0.04 | N19: =L19*(1+M19)-L19 -> 28815.096 | O19: =N19+O18 -> 349192.5 | P19: =L19+N19 -> 749192.5 | Q19: =P19*0.08 -> 59935.4 | R19: ='Loan Amortization'!G206 -> 223047.62 | S19: ='Loan Amortization 2nd Loan'!G206 -> 12953.085 | T19: =P19-R19-S19 -> 513191.8 | U19: =U18+K19 -> -63922.747 | V19: ='Analysis Worksheet'!F15 -> 64280 | W19: =I19+N19+K19 -> 37986.909 | X19: =H19/'Analysis Worksheet'!F6 -> 0.064494011 | Y19: =W19/V19 -> 0.59096 | Z19: =K19/V19 -> -0.0082052129 | AA19: =W19/T19 -> 0.074020881 | AB19: =J19+O19+U19 -> 382869.05 | AC19: =AB19/V19 -> 5.9562702 | AD19: =J19+O19+U19-Q19 -> 322933.65 | AE19: =AD19/V19 -> 5.0238589 | AH19: IRR YR 1 | AI19: =+IRR(AF4:AF5) -> -0.29303645 | AL19: IRR YR 5 | AM19: =IRR(AJ4:AJ9) -> 0.080784516 | AP19: IRR YR 10 | AQ19: =IRR(AN4:AN14) -> 0.10028525 | AR19: =K18+AU7 -> 416014 | AS19: yr15 plus net | AT19: IRR YR 15 | AU19: =IRR(AR4:AR19) -> 0.098129781
A20: 17 | B20: ='Analysis Worksheet'!C64 -> 0.02 | C20: =(C19*B20)+C19 -> 37888.885 | D20: ='Analysis Worksheet'!C34 -> 0 | E20: =C20-(C20*D20) -> 37888.885 | F20: ='Analysis Worksheet'!C63 -> 0.02 | G20: =(G19*F19)+G19 -> 11575.329 | H20: =E20-G20 -> 26313.556 | I20: ='Loan Amortization'!H218+'Loan Amortization 2nd Loan'!H218 -> 10387.225 | J20: =I20+J19 -> 107986.52 | K20: =H20-'Analysis Worksheet'!G25 -> -11.478999 | L20: =P19 -> 749192.5 | M20: ='Analysis Worksheet'!C65 -> 0.04 | N20: =L20*(1+M20)-L20 -> 29967.7 | O20: =N20+O19 -> 379160.2 | P20: =L20+N20 -> 779160.2 | Q20: =P20*0.08 -> 62332.816 | R20: ='Loan Amortization'!G218 -> 213316 | S20: ='Loan Amortization 2nd Loan'!G218 -> 12297.478 | T20: =P20-R20-S20 -> 553546.72 | U20: =U19+K20 -> -63934.226 | V20: ='Analysis Worksheet'!F15 -> 64280 | W20: =I20+N20+K20 -> 40343.446 | X20: =H20/'Analysis Worksheet'!F6 -> 0.065783891 | Y20: =W20/V20 -> 0.62762051 | Z20: =K20/V20 -> -0.00017857807 | AA20: =W20/T20 -> 0.072881736 | AB20: =J20+O20+U20 -> 423212.5 | AC20: =AB20/V20 -> 6.5838907 | AD20: =J20+O20+U20-Q20 -> 360879.68 | AE20: =AD20/V20 -> 5.6141829
A21: 18 | B21: ='Analysis Worksheet'!C64 -> 0.02 | C21: =(C20*B21)+C20 -> 38646.663 | D21: ='Analysis Worksheet'!C34 -> 0 | E21: =C21-(C21*D21) -> 38646.663 | F21: ='Analysis Worksheet'!C63 -> 0.02 | G21: =(G20*F20)+G20 -> 11806.836 | H21: =E21-G21 -> 26839.828 | I21: ='Loan Amortization'!H230+'Loan Amortization 2nd Loan'!H230 -> 11124.267 | J21: =I21+J20 -> 119110.79 | K21: =H21-'Analysis Worksheet'!G25 -> 514.79213 | L21: =P20 -> 779160.2 | M21: ='Analysis Worksheet'!C65 -> 0.04 | N21: =L21*(1+M21)-L21 -> 31166.408 | O21: =N21+O20 -> 410326.61 | P21: =L21+N21 -> 810326.61 | Q21: =P21*0.08 -> 64826.128 | R21: ='Loan Amortization'!G230 -> 202880.88 | S21: ='Loan Amortization 2nd Loan'!G230 -> 11608.329 | T21: =P21-R21-S21 -> 595837.4 | U21: =U20+K21 -> -63419.433 | V21: ='Analysis Worksheet'!F15 -> 64280 | W21: =I21+N21+K21 -> 42805.467 | X21: =H21/'Analysis Worksheet'!F6 -> 0.067099569 | Y21: =W21/V21 -> 0.66592201 | Z21: =K21/V21 -> 0.0080085894 | AA21: =W21/T21 -> 0.071840853 | AB21: =J21+O21+U21 -> 466017.96 | AC21: =AB21/V21 -> 7.2498127 | AD21: =J21+O21+U21-Q21 -> 401191.83 | AE21: =AD21/V21 -> 6.2413166 | AH21: MIRR | AI21: =MIRR(AF4:AF5,'Analysis Worksheet'!F12,0.04) -> -0.29303645 | AL21: MIRR | AM21: =MIRR(AN4:AN14,0.04,0.02) -> 0.090988232 | AP21: MIRR | AQ21: =MIRR(AN4:AN14,'Analysis Worksheet'!$F$12,0.04) -> 0.095935922 | AT21: MIRR | AU21: =MIRR(AR4:AR19,'Analysis Worksheet'!$F$12,0.04) -> 0.094534479
A22: 19 | B22: ='Analysis Worksheet'!C64 -> 0.02 | C22: =(C21*B22)+C21 -> 39419.596 | D22: ='Analysis Worksheet'!C34 -> 0 | E22: =C22-(C22*D22) -> 39419.596 | F22: ='Analysis Worksheet'!C63 -> 0.02 | G22: =(G21*F21)+G21 -> 12042.972 | H22: =E22-G22 -> 27376.624 | I22: ='Loan Amortization'!H242+'Loan Amortization 2nd Loan'!H242 -> 11913.881 | J22: =I22+J21 -> 131024.67 | K22: =H22-'Analysis Worksheet'!G25 -> 1051.5887 | L22: =P21 -> 810326.61 | M22: ='Analysis Worksheet'!C65 -> 0.04 | N22: =L22*(1+M22)-L22 -> 32413.064 | O22: =N22+O21 -> 442739.67 | P22: =L22+N22 -> 842739.67 | Q22: =P22*0.08 -> 67419.174 | R22: ='Loan Amortization'!G242 -> 191691.41 | S22: ='Loan Amortization 2nd Loan'!G242 -> 10883.922 | T22: =P22-R22-S22 -> 640164.34 | U22: =U21+K22 -> -62367.845 | V22: ='Analysis Worksheet'!F15 -> 64280 | W22: =I22+N22+K22 -> 45378.533 | X22: =H22/'Analysis Worksheet'!F6 -> 0.06844156 | Y22: =W22/V22 -> 0.70595105 | Z22: =K22/V22 -> 0.0163595 | AA22: =W22/T22 -> 0.070885756 | AB22: =J22+O22+U22 -> 511396.5 | AC22: =AB22/V22 -> 7.9557638 | AD22: =J22+O22+U22-Q22 -> 443977.32 | AE22: =AD22/V22 -> 6.9069279
A23: 20 | B23: ='Analysis Worksheet'!C64 -> 0.02 | C23: =(C22*B23)+C22 -> 40207.988 | D23: ='Analysis Worksheet'!C34 -> 0 | E23: =C23-(C23*D23) -> 40207.988 | F23: ='Analysis Worksheet'!C63 -> 0.02 | G23: =(G22*F22)+G22 -> 12283.832 | H23: =E23-G23 -> 27924.157 | I23: ='Loan Amortization'!H254+'Loan Amortization 2nd Loan'!H266 -> 12798.789 | J23: =I23+J22 -> 143823.46 | K23: =H23-'Analysis Worksheet'!G25 -> 1599.1212 | L23: =P22 -> 842739.67 | M23: ='Analysis Worksheet'!C65 -> 0.04 | N23: =L23*(1+M23)-L23 -> 33709.587 | O23: =N23+O22 -> 476449.26 | P23: =L23+N23 -> 876449.26 | Q23: =P23*0.08 -> 70115.941 | R23: ='Loan Amortization'!G254 -> 179693.05 | S23: ='Loan Amortization 2nd Loan'!G254 -> 10122.454 | T23: =P23-R23-S23 -> 686633.76 | U23: =U22+K23 -> -60768.724 | V23: ='Analysis Worksheet'!F15 -> 64280 | W23: =I23+N23+K23 -> 48107.497 | X23: =H23/'Analysis Worksheet'!F6 -> 0.069810391 | Y23: =W23/V23 -> 0.74840536 | Z23: =K23/V23 -> 0.024877429 | AA23: =W23/T23 -> 0.070062819 | AB23: =J23+O23+U23 -> 559503.99 | AC23: =AB23/V23 -> 8.7041691 | AD23: =J23+O23+U23-Q23 -> 489388.05 | AE23: =AD23/V23 -> 7.6133798
A24: 21 | B24: ='Analysis Worksheet'!C64 -> 0.02 | C24: =(C23*B24)+C23 -> 41012.148 | D24: ='Analysis Worksheet'!C34 -> 0 | E24: =C24-(C24*D24) -> 41012.148 | F24: ='Analysis Worksheet'!C63 -> 0.02 | G24: =(G23*F23)+G23 -> 12529.508 | H24: =E24-G24 -> 28482.64 | I24: ='Loan Amortization'!H266+'Loan Amortization 2nd Loan'!H266 -> 13666.151 | J24: =I24+J23 -> 157489.61 | K24: =H24-'Analysis Worksheet'!G25 -> 2157.6043 | L24: =P23 -> 876449.26 | M24: ='Analysis Worksheet'!C65 -> 0.04 | N24: =L24*(1+M24)-L24 -> 35057.97 | O24: =N24+O23 -> 511507.23 | P24: =L24+N24 -> 911507.23 | Q24: =P24*0.08 -> 72920.578 | R24: ='Loan Amortization'!G266 -> 166827.32 | S24: ='Loan Amortization 2nd Loan'!G266 -> 9322.0264 | T24: =P24-R24-S24 -> 735357.88 | U24: =U23+K24 -> -58611.119 | V24: ='Analysis Worksheet'!F15 -> 64280 | W24: =I24+N24+K24 -> 50881.726 | X24: =H24/'Analysis Worksheet'!F6 -> 0.071206599 | Y24: =W24/V24 -> 0.79156387 | Z24: =K24/V24 -> 0.033565717 | AA24: =W24/T24 -> 0.069193147 | AB24: =J24+O24+U24 -> 610385.72 | AC24: =AB24/V24 -> 9.495733 | AD24: =J24+O24+U24-Q24 -> 537465.14 | AE24: =AD24/V24 -> 8.3613121
A25: 22 | B25: ='Analysis Worksheet'!C64 -> 0.02 | C25: =(C24*B25)+C24 -> 41832.391 | D25: ='Analysis Worksheet'!C34 -> 0 | E25: =C25-(C25*D25) -> 41832.391 | F25: ='Analysis Worksheet'!C63 -> 0.02 | G25: =(G24*F24)+G24 -> 12780.099 | H25: =E25-G25 -> 29052.292 | I25: ='Loan Amortization'!H278+'Loan Amortization 2nd Loan'!H278 -> 14637.167 | J25: =I25+J24 -> 172126.78 | K25: =H25-'Analysis Worksheet'!G25 -> 2727.2571 | L25: =P24 -> 911507.23 | M25: ='Analysis Worksheet'!C65 -> 0.04 | N25: =L25*(1+M25)-L25 -> 36460.289 | O25: =N25+O24 -> 547967.52 | P25: =L25+N25 -> 947967.52 | Q25: =P25*0.08 -> 75837.401 | R25: ='Loan Amortization'!G278 -> 153031.53 | S25: ='Loan Amortization 2nd Loan'!G278 -> 8480.6479 | T25: =P25-R25-S25 -> 786455.34 | U25: =U24+K25 -> -55883.862 | V25: ='Analysis Worksheet'!F15 -> 64280 | W25: =I25+N25+K25 -> 53824.713 | X25: =H25/'Analysis Worksheet'!F6 -> 0.072630731 | Y25: =W25/V25 -> 0.83734775 | Z25: =K25/V25 -> 0.04242777 | AA25: =W25/T25 -> 0.068439631 | AB25: =J25+O25+U25 -> 664210.43 | AC25: =AB25/V25 -> 10.333081 | AD25: =J25+O25+U25-Q25 -> 588373.03 | AE25: =AD25/V25 -> 9.153283
A26: 23 | B26: ='Analysis Worksheet'!C64 -> 0.02 | C26: =(C25*B26)+C25 -> 42669.039 | D26: ='Analysis Worksheet'!C34 -> 0 | E26: =C26-(C26*D26) -> 42669.039 | F26: ='Analysis Worksheet'!C63 -> 0.02 | G26: =(G25*F25)+G25 -> 13035.701 | H26: =E26-G26 -> 29633.338 | I26: ='Loan Amortization'!H290+'Loan Amortization 2nd Loan'!H290 -> 15677.512 | J26: =I26+J25 -> 187804.29 | K26: =H26-'Analysis Worksheet'!G25 -> 3308.3029 | L26: =P25 -> 947967.52 | M26: ='Analysis Worksheet'!C65 -> 0.04 | N26: =L26*(1+M26)-L26 -> 37918.701 | O26: =N26+O25 -> 585886.22 | P26: =L26+N26 -> 985886.22 | Q26: =P26*0.08 -> 78870.897 | R26: ='Loan Amortization'!G290 -> 138238.45 | S26: ='Loan Amortization 2nd Loan'!G290 -> 7596.223 | T26: =P26-R26-S26 -> 840051.55 | U26: =U25+K26 -> -52575.559 | V26: ='Analysis Worksheet'!F15 -> 64280 | W26: =I26+N26+K26 -> 56904.516 | X26: =H26/'Analysis Worksheet'!F6 -> 0.074083346 | Y26: =W26/V26 -> 0.88526004 | Z26: =K26/V26 -> 0.051467065 | AA26: =W26/T26 -> 0.067739314 | AB26: =J26+O26+U26 -> 721114.95 | AC26: =AB26/V26 -> 11.218341 | AD26: =J26+O26+U26-Q26 -> 642244.05 | AE26: =AD26/V26 -> 9.9913511
A27: 24 | B27: ='Analysis Worksheet'!C64 -> 0.02 | C27: =(C26*B27)+C26 -> 43522.42 | D27: ='Analysis Worksheet'!C34 -> 0 | E27: =C27-(C27*D27) -> 43522.42 | F27: ='Analysis Worksheet'!C63 -> 0.02 | G27: =(G26*F26)+G26 -> 13296.415 | H27: =E27-G27 -> 30226.005 | I27: ='Loan Amortization'!H302+'Loan Amortization 2nd Loan'!H302 -> 16792.154 | J27: =I27+J26 -> 204596.44 | K27: =H27-'Analysis Worksheet'!G25 -> 3900.9697 | L27: =P26 -> 985886.22 | M27: ='Analysis Worksheet'!C65 -> 0.04 | N27: =L27*(1+M27)-L27 -> 39435.449 | O27: =N27+O26 -> 625321.67 | P27: =L27+N27 -> 1025321.7 | Q27: =P27*0.08 -> 82025.733 | R27: ='Loan Amortization'!G302 -> 122375.97 | S27: ='Loan Amortization 2nd Loan'!G302 -> 6666.5491 | T27: =P27-R27-S27 -> 896279.15 | U27: =U26+K27 -> -48674.59 | V27: ='Analysis Worksheet'!F15 -> 64280 | W27: =I27+N27+K27 -> 60128.573 | X27: =H27/'Analysis Worksheet'!F6 -> 0.075565013 | Y27: =W27/V27 -> 0.9354165 | Z27: =K27/V27 -> 0.060687145 | AA27: =W27/T27 -> 0.067086881 | AB27: =J27+O27+U27 -> 781243.52 | AC27: =AB27/V27 -> 12.153757 | AD27: =J27+O27+U27-Q27 -> 699217.79 | AE27: =AD27/V27 -> 10.877688
A28: 25 | B28: ='Analysis Worksheet'!C64 -> 0.02 | C28: =(C27*B28)+C27 -> 44392.868 | D28: ='Analysis Worksheet'!C34 -> 0 | E28: =C28-(C28*D28) -> 44392.868 | F28: ='Analysis Worksheet'!C63 -> 0.02 | G28: =(G27*F27)+G27 -> 13562.343 | H28: =E28-G28 -> 30830.525 | I28: ='Loan Amortization'!H314+'Loan Amortization 2nd Loan'!H314 -> 17986.418 | J28: =I28+J27 -> 222582.86 | K28: =H28-'Analysis Worksheet'!G25 -> 4505.4898 | L28: =P27 -> 1025321.7 | M28: ='Analysis Worksheet'!C65 -> 0.04 | N28: =L28*(1+M28)-L28 -> 41012.867 | O28: =N28+O27 -> 666334.53 | P28: =L28+N28 -> 1066334.5 | Q28: =P28*0.08 -> 85306.763 | R28: ='Loan Amortization'!G314 -> 105366.78 | S28: ='Loan Amortization 2nd Loan'!G314 -> 5689.3114 | T28: =P28-R28-S28 -> 955278.44 | U28: =U27+K28 -> -44169.1 | V28: ='Analysis Worksheet'!F15 -> 64280 | W28: =I28+N28+K28 -> 63504.775 | X28: =H28/'Analysis Worksheet'!F6 -> 0.077076313 | Y28: =W28/V28 -> 0.98793987 | Z28: =K28/V28 -> 0.070091627 | AA28: =W28/T28 -> 0.066477764 | AB28: =J28+O28+U28 -> 844748.29 | AC28: =AB28/V28 -> 13.141697 | AD28: =J28+O28+U28-Q28 -> 759441.53 | AE28: =AD28/V28 -> 11.814585
A29: 26 | B29: ='Analysis Worksheet'!C64 -> 0.02 | C29: =(C28*B29)+C28 -> 45280.725 | D29: ='Analysis Worksheet'!C34 -> 0 | E29: =C29-(C29*D29) -> 45280.725 | F29: ='Analysis Worksheet'!C63 -> 0.02 | G29: =(G28*F28)+G28 -> 13833.59 | H29: =E29-G29 -> 31447.136 | I29: ='Loan Amortization'!H326+'Loan Amortization 2nd Loan'!H326 -> 19266.011 | J29: =I29+J28 -> 241848.87 | K29: =H29-'Analysis Worksheet'!G25 -> 5122.1003 | L29: =P28 -> 1066334.5 | M29: ='Analysis Worksheet'!C65 -> 0.04 | N29: =L29*(1+M29)-L29 -> 42653.381 | O29: =N29+O28 -> 708987.91 | P29: =L29+N29 -> 1108987.9 | Q29: =P29*0.08 -> 88719.033 | R29: ='Loan Amortization'!G326 -> 87128.009 | S29: ='Loan Amortization 2nd Loan'!G326 -> 4662.0763 | T29: =P29-R29-S29 -> 1017197.8 | U29: =U28+K29 -> -39046.999 | V29: ='Analysis Worksheet'!F15 -> 64280 | W29: =I29+N29+K29 -> 67041.492 | X29: =H29/'Analysis Worksheet'!F6 -> 0.078617839 | Y29: =W29/V29 -> 1.0429604 | Z29: =K29/V29 -> 0.079684199 | AA29: =W29/T29 -> 0.065908017 | AB29: =J29+O29+U29 -> 911789.79 | AC29: =AB29/V29 -> 14.184658 | AD29: =J29+O29+U29-Q29 -> 823070.75 | AE29: =AD29/V29 -> 12.804461
A30: 27 | B30: ='Analysis Worksheet'!C64 -> 0.02 | C30: =(C29*B30)+C29 -> 46186.34 | D30: ='Analysis Worksheet'!C34 -> 0 | E30: =C30-(C30*D30) -> 46186.34 | F30: ='Analysis Worksheet'!C63 -> 0.02 | G30: =(G29*F29)+G29 -> 14110.262 | H30: =E30-G30 -> 32076.078 | I30: ='Loan Amortization'!H338+'Loan Amortization 2nd Loan'!H338 -> 20637.049 | J30: =I30+J29 -> 262485.92 | K30: =H30-'Analysis Worksheet'!G25 -> 5751.043 | L30: =P29 -> 1108987.9 | M30: ='Analysis Worksheet'!C65 -> 0.04 | N30: =L30*(1+M30)-L30 -> 44359.517 | O30: =N30+O29 -> 753347.43 | P30: =L30+N30 -> 1153347.4 | Q30: =P30*0.08 -> 92267.794 | R30: ='Loan Amortization'!G338 -> 67570.751 | S30: ='Loan Amortization 2nd Loan'!G338 -> 3582.286 | T30: =P30-R30-S30 -> 1082194.4 | U30: =U29+K30 -> -33295.956 | V30: ='Analysis Worksheet'!F15 -> 64280 | W30: =I30+N30+K30 -> 70747.608 | X30: =H30/'Analysis Worksheet'!F6 -> 0.080190196 | Y30: =W30/V30 -> 1.1006162 | Z30: =K30/V30 -> 0.089468622 | AA30: =W30/T30 -> 0.065374214 | AB30: =J30+O30+U30 -> 982537.4 | AC30: =AB30/V30 -> 15.285274 | AD30: =J30+O30+U30-Q30 -> 890269.6 | AE30: =AD30/V30 -> 13.849869
A31: 28 | B31: ='Analysis Worksheet'!C64 -> 0.02 | C31: =(C30*B31)+C30 -> 47110.067 | D31: ='Analysis Worksheet'!C34 -> 0 | E31: =C31-(C31*D31) -> 47110.067 | F31: ='Analysis Worksheet'!C63 -> 0.02 | G31: =(G30*F30)+G30 -> 14392.467 | H31: =E31-G31 -> 32717.6 | I31: ='Loan Amortization'!H350+'Loan Amortization 2nd Loan'!H350 -> 22106.088 | J31: =I31+J30 -> 284592.01 | K31: =H31-'Analysis Worksheet'!G25 -> 6392.5646 | L31: =P30 -> 1153347.4 | M31: ='Analysis Worksheet'!C65 -> 0.04 | N31: =L31*(1+M31)-L31 -> 46133.897 | O31: =N31+O30 -> 799481.33 | P31: =L31+N31 -> 1199481.3 | Q31: =P31*0.08 -> 95958.506 | R31: ='Loan Amortization'!G350 -> 46599.697 | S31: ='Loan Amortization 2nd Loan'!G350 -> 2447.2515 | T31: =P31-R31-S31 -> 1150434.4 | U31: =U30+K31 -> -26903.392 | V31: ='Analysis Worksheet'!F15 -> 64280 | W31: =I31+N31+K31 -> 74632.55 | X31: =H31/'Analysis Worksheet'!F6 -> 0.081794 | Y31: =W31/V31 -> 1.161054 | Z31: =K31/V31 -> 0.099448734 | AA31: =W31/T31 -> 0.064873366 | AB31: =J31+O31+U31 -> 1057169.9 | AC31: =AB31/V31 -> 16.446328 | AD31: =J31+O31+U31-Q31 -> 961211.44 | AE31: =AD31/V31 -> 14.953507
A32: 29 | B32: ='Analysis Worksheet'!C64 -> 0.02 | C32: =(C31*B32)+C31 -> 48052.268 | D32: ='Analysis Worksheet'!C34 -> 0 | E32: =C32-(C32*D32) -> 48052.268 | F32: ='Analysis Worksheet'!C63 -> 0.02 | G32: =(G31*F31)+G31 -> 14680.316 | H32: =E32-G32 -> 33371.952 | I32: ='Loan Amortization'!H362+'Loan Amortization 2nd Loan'!H362 -> 23680.158 | J32: =I32+J31 -> 308272.17 | K32: =H32-'Analysis Worksheet'!G25 -> 7046.9166 | L32: =P31 -> 1199481.3 | M32: ='Analysis Worksheet'!C65 -> 0.04 | N32: =L32*(1+M32)-L32 -> 47979.253 | O32: =N32+O31 -> 847460.58 | P32: =L32+N32 -> 1247460.6 | Q32: =P32*0.08 -> 99796.846 | R32: ='Loan Amortization'!G362 -> 24112.644 | S32: ='Loan Amortization 2nd Loan'!G362 -> 1254.1465 | T32: =P32-R32-S32 -> 1222093.8 | U32: =U31+K32 -> -19856.475 | V32: ='Analysis Worksheet'!F15 -> 64280 | W32: =I32+N32+K32 -> 78706.328 | X32: =H32/'Analysis Worksheet'!F6 -> 0.08342988 | Y32: =W32/V32 -> 1.2244295 | Z32: =K32/V32 -> 0.10962845 | AA32: =W32/T32 -> 0.064402854 | AB32: =J32+O32+U32 -> 1135876.3 | AC32: =AB32/V32 -> 17.670757 | AD32: =J32+O32+U32-Q32 -> 1036079.4 | AE32: =AD32/V32 -> 16.118224
A33: 30 | B33: ='Analysis Worksheet'!C64 -> 0.02 | C33: =(C32*B33)+C32 -> 49013.313 | D33: ='Analysis Worksheet'!C34 -> 0 | E33: =C33-(C33*D33) -> 49013.313 | F33: ='Analysis Worksheet'!C63 -> 0.02 | G33: =(G32*F32)+G32 -> 14973.922 | H33: =E33-G33 -> 34039.391 | I33: ='Loan Amortization'!H374+'Loan Amortization 2nd Loan'!H374 -> 25366.791 | J33: =I33+J32 -> 333638.96 | K33: =H33-'Analysis Worksheet'!G25 -> 7714.3556 | L33: =P32 -> 1247460.6 | M33: ='Analysis Worksheet'!C65 -> 0.04 | N33: =L33*(1+M33)-L33 -> 49898.423 | O33: =N33+O32 -> 897359 | P33: =L33+N33 -> 1297359 | Q33: =P33*0.08 -> 103788.72 | R33: ='Loan Amortization'!G374 -> 0 | S33: ='Loan Amortization 2nd Loan'!G374 -> 0 | T33: =P33-R33-S33 -> 1297359 | U33: =U32+K33 -> -12142.12 | V33: ='Analysis Worksheet'!F15 -> 64280 | W33: =I33+N33+K33 -> 82979.569 | X33: =H33/'Analysis Worksheet'!F6 -> 0.085098478 | Y33: =W33/V33 -> 1.290908 | Z33: =K33/V33 -> 0.12001176 | AA33: =W33/T33 -> 0.063960376 | AB33: =J33+O33+U33 -> 1218855.8 | AC33: =AB33/V33 -> 18.961665 | AD33: =J33+O33+U33-Q33 -> 1115067.1 | AE33: =AD33/V33 -> 17.347031
A34: 31 | B34: ='Analysis Worksheet'!C64 -> 0.02 | C34: =(C33*B34)+C33 -> 49993.58 | D34: ='Analysis Worksheet'!C34 -> 0 | E34: =C34-(C34*D34) -> 49993.58 | F34: ='Analysis Worksheet'!C63 -> 0.02 | G34: =(G33*F33)+G33 -> 15273.401 | H34: =E34-G34 -> 34720.179 | I34: ='Interest Calculations'!F365 -> 0 | J34: =I34+J33 -> 333638.96 | K34: =H34-0 -> 34720.179 | L34: =P33 -> 1297359 | M34: ='Analysis Worksheet'!C65 -> 0.04 | N34: =L34*(1+M34)-L34 -> 51894.36 | S34: ='Loan Amortization 2nd Loan'!G386 -> 0
C36: This spreadsheet is a model for informational purposes only. It is not meant nor designed to represent what will happen with regards to interest rates, appreciation, rents or vacancy. It is not meant to be a substitute for your own judgement. Neither the broker nor the agent is responsible for errors.

Sheet Loan Amortization
A1: Loan Data
A2: Original Principal | B2: ='Analysis Worksheet'!F11 -> 313600 | D2: Payoff | E2: =MATCH(0,BalanceRange,0)-1 -> 360
A3: Loan Term (Years) | B3: 30 | D3: Total Interest | E3: =SUM(OFFSET(BalanceRange,0,-3)) -> 313600
A4: Annual Interest Rate | B4: ='Analysis Worksheet'!F12 -> 0.07 | D4: Regular Principal | E4: =SUM(OFFSET(BalanceRange,0,-2)) -> 0
A5: Payments per Year | B5: 12 | D5: Extra Principal | E5: =SUM(OFFSET(BalanceRange,0,-1)) -> 0
A6: Payment | B6: =PMT(B$4/B$5,B$3*B$5,-B$2) -> 2086.3886 | D6: Total Principal | E6: =SUM(E4:E5) -> 0
A7: Additional Principal | B7: ='Analysis Worksheet'!H59 -> 0 | D7: Total Payments | E7: =SUM(E3:E5) -> 313600
D8: Total Savings | E8: =(B3*B5*B6-B2)-(E7-E6) -> 123899.9
A9: Free and Clear year | B9: =E2/12 -> 30
A10: Alt Payoff | B10: =ROUNDUP(NPER(B4/B5,B6+B7,-B2),0)/12 -> 30
A13: Month | B13: Payment | C13: Interest | D13: Principal | E13: Extra Principal | G13: Balance | H13: Debt Paydown
A14: 0 | G14: =B2 -> 313600
A15: 1 | B15: =IF($B$6<=G14,$B$6,G14+G14*$B$4/$B$5) -> 2086.3886 | C15: =IF(B15>0,$B$4/$B$5*G14,0) -> 1829.3333 | D15: =IF(B15>0,MIN(B15-C15,G14),0) -> 257.05529 | E15: =IF(G14-D15>=$B$7,$B$7,G14-D15) -> 0 | G15: =IF(ROUND(G14,5)>0,G14-D15-E15,0) -> 313342.94
A16: 2 | B16: =IF($B$6<=G15,$B$6,G15+G15*$B$4/$B$5) -> 2086.3886 | C16: =IF(B16>0,$B$4/$B$5*G15,0) -> 1827.8338 | D16: =IF(B16>0,MIN(B16-C16,G15),0) -> 258.55478 | E16: =IF(G15-D16>=$B$7,$B$7,G15-D16) -> 0 | G16: =IF(ROUND(G15,5)>0,G15-D16-E16,0) -> 313084.39
A17: 3 | B17: =IF($B$6<=G16,$B$6,G16+G16*$B$4/$B$5) -> 2086.3886 | C17: =IF(B17>0,$B$4/$B$5*G16,0) -> 1826.3256 | D17: =IF(B17>0,MIN(B17-C17,G16),0) -> 260.06302 | E17: =IF(G16-D17>=$B$7,$B$7,G16-D17) -> 0 | G17: =IF(ROUND(G16,5)>0,G16-D17-E17,0) -> 312824.33
A18: 4 | B18: =IF($B$6<=G17,$B$6,G17+G17*$B$4/$B$5) -> 2086.3886 | C18: =IF(B18>0,$B$4/$B$5*G17,0) -> 1824.8086 | D18: =IF(B18>0,MIN(B18-C18,G17),0) -> 261.58005 | E18: =IF(G17-D18>=$B$7,$B$7,G17-D18) -> 0 | G18: =IF(ROUND(G17,5)>0,G17-D18-E18,0) -> 312562.75
A19: 5 | B19: =IF($B$6<=G18,$B$6,G18+G18*$B$4/$B$5) -> 2086.3886 | C19: =IF(B19>0,$B$4/$B$5*G18,0) -> 1823.2827 | D19: =IF(B19>0,MIN(B19-C19,G18),0) -> 263.10593 | E19: =IF(G18-D19>=$B$7,$B$7,G18-D19) -> 0 | G19: =IF(ROUND(G18,5)>0,G18-D19-E19,0) -> 312299.64
A20: 6 | B20: =IF($B$6<=G19,$B$6,G19+G19*$B$4/$B$5) -> 2086.3886 | C20: =IF(B20>0,$B$4/$B$5*G19,0) -> 1821.7479 | D20: =IF(B20>0,MIN(B20-C20,G19),0) -> 264.64072 | E20: =IF(G19-D20>=$B$7,$B$7,G19-D20) -> 0 | G20: =IF(ROUND(G19,5)>0,G19-D20-E20,0) -> 312035
A21: 7 | B21: =IF($B$6<=G20,$B$6,G20+G20*$B$4/$B$5) -> 2086.3886 | C21: =IF(B21>0,$B$4/$B$5*G20,0) -> 1820.2042 | D21: =IF(B21>0,MIN(B21-C21,G20),0) -> 266.18446 | E21: =IF(G20-D21>=$B$7,$B$7,G20-D21) -> 0 | G21: =IF(ROUND(G20,5)>0,G20-D21-E21,0) -> 311768.82
A22: 8 | B22: =IF($B$6<=G21,$B$6,G21+G21*$B$4/$B$5) -> 2086.3886 | C22: =IF(B22>0,$B$4/$B$5*G21,0) -> 1818.6514 | D22: =IF(B22>0,MIN(B22-C22,G21),0) -> 267.7372 | E22: =IF(G21-D22>=$B$7,$B$7,G21-D22) -> 0 | G22: =IF(ROUND(G21,5)>0,G21-D22-E22,0) -> 311501.08
A23: 9 | B23: =IF($B$6<=G22,$B$6,G22+G22*$B$4/$B$5) -> 2086.3886 | C23: =IF(B23>0,$B$4/$B$5*G22,0) -> 1817.0896 | D23: =IF(B23>0,MIN(B23-C23,G22),0) -> 269.299 | E23: =IF(G22-D23>=$B$7,$B$7,G22-D23) -> 0 | G23: =IF(ROUND(G22,5)>0,G22-D23-E23,0) -> 311231.78
A24: 10 | B24: =IF($B$6<=G23,$B$6,G23+G23*$B$4/$B$5) -> 2086.3886 | C24: =IF(B24>0,$B$4/$B$5*G23,0) -> 1815.5187 | D24: =IF(B24>0,MIN(B24-C24,G23),0) -> 270.86991 | E24: =IF(G23-D24>=$B$7,$B$7,G23-D24) -> 0 | G24: =IF(ROUND(G23,5)>0,G23-D24-E24,0) -> 310960.91
A25: 11 | B25: =IF($B$6<=G24,$B$6,G24+G24*$B$4/$B$5) -> 2086.3886 | C25: =IF(B25>0,$B$4/$B$5*G24,0) -> 1813.9386 | D25: =IF(B25>0,MIN(B25-C25,G24),0) -> 272.44999 | E25: =IF(G24-D25>=$B$7,$B$7,G24-D25) -> 0 | G25: =IF(ROUND(G24,5)>0,G24-D25-E25,0) -> 310688.46
A26: 12 | B26: =IF($B$6<=G25,$B$6,G25+G25*$B$4/$B$5) -> 2086.3886 | C26: =IF(B26>0,$B$4/$B$5*G25,0) -> 1812.3493 | D26: =IF(B26>0,MIN(B26-C26,G25),0) -> 274.03928 | E26: =IF(G25-D26>=$B$7,$B$7,G25-D26) -> 0 | G26: =IF(ROUND(G25,5)>0,G25-D26-E26,0) -> 310414.42 | H26: =SUM(D15:D26) -> 3185.5796
A27: 13 | B27: =IF($B$6<=G26,$B$6,G26+G26*$B$4/$B$5) -> 2086.3886 | C27: =IF(B27>0,$B$4/$B$5*G26,0) -> 1810.7508 | D27: =IF(B27>0,MIN(B27-C27,G26),0) -> 275.63784 | E27: =IF(G26-D27>=$B$7,$B$7,G26-D27)+H27 -> 0 | G27: =IF(ROUND(G26,5)>0,G26-D27-E27,0) -> 310138.78
A28: 14 | B28: =IF($B$6<=G27,$B$6,G27+G27*$B$4/$B$5) -> 2086.3886 | C28: =IF(B28>0,$B$4/$B$5*G27,0) -> 1809.1429 | D28: =IF(B28>0,MIN(B28-C28,G27),0) -> 277.24573 | E28: =IF(G27-D28>=$B$7,E27,G27-D28) -> 0 | G28: =IF(ROUND(G27,5)>0,G27-D28-E28,0) -> 309861.54
A29: 15 | B29: =IF($B$6<=G28,$B$6,G28+G28*$B$4/$B$5) -> 2086.3886 | C29: =IF(B29>0,$B$4/$B$5*G28,0) -> 1807.5256 | D29: =IF(B29>0,MIN(B29-C29,G28),0) -> 278.86299 | E29: =IF(G28-D29>=$B$7,E28,G28-D29) -> 0 | G29: =IF(ROUND(G28,5)>0,G28-D29-E29,0) -> 309582.67
A30: 16 | B30: =IF($B$6<=G29,$B$6,G29+G29*$B$4/$B$5) -> 2086.3886 | C30: =IF(B30>0,$B$4/$B$5*G29,0) -> 1805.8989 | D30: =IF(B30>0,MIN(B30-C30,G29),0) -> 280.48969 | E30: =IF(G29-D30>=$B$7,E29,G29-D30) -> 0 | G30: =IF(ROUND(G29,5)>0,G29-D30-E30,0) -> 309302.18
A31: 17 | B31: =IF($B$6<=G30,$B$6,G30+G30*$B$4/$B$5) -> 2086.3886 | C31: =IF(B31>0,$B$4/$B$5*G30,0) -> 1804.2627 | D31: =IF(B31>0,MIN(B31-C31,G30),0) -> 282.12588 | E31: =IF(G30-D31>=$B$7,E30,G30-D31) -> 0 | G31: =IF(ROUND(G30,5)>0,G30-D31-E31,0) -> 309020.06
A32: 18 | B32: =IF($B$6<=G31,$B$6,G31+G31*$B$4/$B$5) -> 2086.3886 | C32: =IF(B32>0,$B$4/$B$5*G31,0) -> 1802.617 | D32: =IF(B32>0,MIN(B32-C32,G31),0) -> 283.77162 | E32: =IF(G31-D32>=$B$7,E31,G31-D32) -> 0 | G32: =IF(ROUND(G31,5)>0,G31-D32-E32,0) -> 308736.29
A33: 19 | B33: =IF($B$6<=G32,$B$6,G32+G32*$B$4/$B$5) -> 2086.3886 | C33: =IF(B33>0,$B$4/$B$5*G32,0) -> 1800.9617 | D33: =IF(B33>0,MIN(B33-C33,G32),0) -> 285.42695 | E33: =IF(G32-D33>=$B$7,E32,G32-D33) -> 0 | G33: =IF(ROUND(G32,5)>0,G32-D33-E33,0) -> 308450.86
A34: 20 | B34: =IF($B$6<=G33,$B$6,G33+G33*$B$4/$B$5) -> 2086.3886 | C34: =IF(B34>0,$B$4/$B$5*G33,0) -> 1799.2967 | D34: =IF(B34>0,MIN(B34-C34,G33),0) -> 287.09194 | E34: =IF(G33-D34>=$B$7,E33,G33-D34) -> 0 | G34: =IF(ROUND(G33,5)>0,G33-D34-E34,0) -> 308163.77
A35: 21 | B35: =IF($B$6<=G34,$B$6,G34+G34*$B$4/$B$5) -> 2086.3886 | C35: =IF(B35>0,$B$4/$B$5*G34,0) -> 1797.622 | D35: =IF(B35>0,MIN(B35-C35,G34),0) -> 288.76665 | E35: =IF(G34-D35>=$B$7,E34,G34-D35) -> 0 | G35: =IF(ROUND(G34,5)>0,G34-D35-E35,0) -> 307875
A36: 22 | B36: =IF($B$6<=G35,$B$6,G35+G35*$B$4/$B$5) -> 2086.3886 | C36: =IF(B36>0,$B$4/$B$5*G35,0) -> 1795.9375 | D36: =IF(B36>0,MIN(B36-C36,G35),0) -> 290.45112 | E36: =IF(G35-D36>=$B$7,E35,G35-D36) -> 0 | G36: =IF(ROUND(G35,5)>0,G35-D36-E36,0) -> 307584.55
A37: 23 | B37: =IF($B$6<=G36,$B$6,G36+G36*$B$4/$B$5) -> 2086.3886 | C37: =IF(B37>0,$B$4/$B$5*G36,0) -> 1794.2432 | D37: =IF(B37>0,MIN(B37-C37,G36),0) -> 292.14542 | E37: =IF(G36-D37>=$B$7,E36,G36-D37) -> 0 | G37: =IF(ROUND(G36,5)>0,G36-D37-E37,0) -> 307292.4
A38: 24 | B38: =IF($B$6<=G37,$B$6,G37+G37*$B$4/$B$5) -> 2086.3886 | C38: =IF(B38>0,$B$4/$B$5*G37,0) -> 1792.539 | D38: =IF(B38>0,MIN(B38-C38,G37),0) -> 293.8496 | E38: =IF(G37-D38>=$B$7,E37,G37-D38) -> 0 | G38: =IF(ROUND(G37,5)>0,G37-D38-E38,0) -> 306998.55 | H38: =SUM(D27:D38) -> 3415.8654
A39: 25 | B39: =IF($B$6<=G38,$B$6,G38+G38*$B$4/$B$5) -> 2086.3886 | C39: =IF(B39>0,$B$4/$B$5*G38,0) -> 1790.8249 | D39: =IF(B39>0,MIN(B39-C39,G38),0) -> 295.56372 | E39: =IF(G38-D39>=$B$7,$B$7,G38-D39)+H39 -> 0 | G39: =IF(ROUND(G38,5)>0,G38-D39-E39,0) -> 306702.99
A40: 26 | B40: =IF($B$6<=G39,$B$6,G39+G39*$B$4/$B$5) -> 2086.3886 | C40: =IF(B40>0,$B$4/$B$5*G39,0) -> 1789.1008 | D40: =IF(B40>0,MIN(B40-C40,G39),0) -> 297.28784 | E40: =IF(G39-D40>=$B$7,E39,G39-D40) -> 0 | G40: =IF(ROUND(G39,5)>0,G39-D40-E40,0) -> 306405.7
A41: 27 | B41: =IF($B$6<=G40,$B$6,G40+G40*$B$4/$B$5) -> 2086.3886 | C41: =IF(B41>0,$B$4/$B$5*G40,0) -> 1787.3666 | D41: =IF(B41>0,MIN(B41-C41,G40),0) -> 299.02202 | E41: =IF(G40-D41>=$B$7,E40,G40-D41) -> 0 | G41: =IF(ROUND(G40,5)>0,G40-D41-E41,0) -> 306106.68
A42: 28 | B42: =IF($B$6<=G41,$B$6,G41+G41*$B$4/$B$5) -> 2086.3886 | C42: =IF(B42>0,$B$4/$B$5*G41,0) -> 1785.6223 | D42: =IF(B42>0,MIN(B42-C42,G41),0) -> 300.76632 | E42: =IF(G41-D42>=$B$7,E41,G41-D42) -> 0 | G42: =IF(ROUND(G41,5)>0,G41-D42-E42,0) -> 305805.92
...

Sheet Loan Amortization 2nd Loan
A1: Loan Data
A2: Original Principal | B2: ='Analysis Worksheet'!F18 -> 20000 | D2: Payoff | E2: =MATCH(0,BalanceRange,0)-1 -> 360 | H2: =B2*B4 -> 1000 | I2: Interest Only Annual Payment
A3: Loan Term (Years) | B3: ='Analysis Worksheet'!F20 -> 30 | D3: Total Interest | E3: =SUM(OFFSET(BalanceRange,0,-3)) -> 20000 | H3: =B2*B4/12 -> 83.333333 | I3: Interest Only monthly payment
A4: Annual Interest Rate | B4: ='Analysis Worksheet'!F19 -> 0.05 | D4: Regular Principal | E4: =SUM(OFFSET(BalanceRange,0,-2)) -> 0
A5: Payments per Year | B5: ='Analysis Worksheet'!F21 -> 12 | D5: Extra Principal | E5: =SUM(OFFSET(BalanceRange,0,-1)) -> 0
A6: Payment | B6: =PMT(B$4/B$5,B$3*B$5,-B$2) -> 107.36432 | D6: Total Principal | E6: =SUM(E4:E5) -> 0
A7: Additional Principal | B7: ='Analysis Worksheet'!H59 -> 0 | D7: Total Payments | E7: =SUM(E3:E5) -> 20000
D8: Total Savings | E8: =(B3*B5*B6-B2)-(E7-E6) -> -1348.8431
A9: Free and Clear year | B9: =E2/12 -> 30
A10: Alt Payoff | B10: =ROUNDUP(NPER(B4/B5,B6+B7,-B2),0)/12 -> 30.083333
A13: Month | B13: Payment | C13: Interest | D13: Principal | E13: Extra Principal | G13: Balance | H13: Debt Paydown
A14: 0 | G14: =B2 -> 20000
A15: 1 | B15: =IF($B$6<=G14,$B$6,G14+G14*$B$4/$B$5) -> 107.36432 | C15: =IF(B15>0,$B$4/$B$5*G14,0) -> 83.333333 | D15: =IF(B15>0,MIN(B15-C15,G14),0) -> 24.030991 | E15: =IF(G14-D15>=$B$7,$B$7,G14-D15) -> 0 | G15: =IF(ROUND(G14,5)>0,G14-D15-E15,0) -> 19975.969
A16: 2 | B16: =IF($B$6<=G15,$B$6,G15+G15*$B$4/$B$5) -> 107.36432 | C16: =IF(B16>0,$B$4/$B$5*G15,0) -> 83.233204 | D16: =IF(B16>0,MIN(B16-C16,G15),0) -> 24.13112 | E16: =IF(G15-D16>=$B$7,$B$7,G15-D16) -> 0 | G16: =IF(ROUND(G15,5)>0,G15-D16-E16,0) -> 19951.838
A17: 3 | B17: =IF($B$6<=G16,$B$6,G16+G16*$B$4/$B$5) -> 107.36432 | C17: =IF(B17>0,$B$4/$B$5*G16,0) -> 83.132658 | D17: =IF(B17>0,MIN(B17-C17,G16),0) -> 24.231667 | E17: =IF(G16-D17>=$B$7,$B$7,G16-D17) -> 0 | G17: =IF(ROUND(G16,5)>0,G16-D17-E17,0) -> 19927.606
A18: 4 | B18: =IF($B$6<=G17,$B$6,G17+G17*$B$4/$B$5) -> 107.36432 | C18: =IF(B18>0,$B$4/$B$5*G17,0) -> 83.031693 | D18: =IF(B18>0,MIN(B18-C18,G17),0) -> 24.332632 | E18: =IF(G17-D18>=$B$7,$B$7,G17-D18) -> 0 | G18: =IF(ROUND(G17,5)>0,G17-D18-E18,0) -> 19903.274
A19: 5 | B19: =IF($B$6<=G18,$B$6,G18+G18*$B$4/$B$5) -> 107.36432 | C19: =IF(B19>0,$B$4/$B$5*G18,0) -> 82.930307 | D19: =IF(B19>0,MIN(B19-C19,G18),0) -> 24.434018 | E19: =IF(G18-D19>=$B$7,$B$7,G18-D19) -> 0 | G19: =IF(ROUND(G18,5)>0,G18-D19-E19,0) -> 19878.84
A20: 6 | B20: =IF($B$6<=G19,$B$6,G19+G19*$B$4/$B$5) -> 107.36432 | C20: =IF(B20>0,$B$4/$B$5*G19,0) -> 82.828498 | D20: =IF(B20>0,MIN(B20-C20,G19),0) -> 24.535826 | E20: =IF(G19-D20>=$B$7,$B$7,G19-D20) -> 0 | G20: =IF(ROUND(G19,5)>0,G19-D20-E20,0) -> 19854.304
A21: 7 | B21: =IF($B$6<=G20,$B$6,G20+G20*$B$4/$B$5) -> 107.36432 | C21: =IF(B21>0,$B$4/$B$5*G20,0) -> 82.726266 | D21: =IF(B21>0,MIN(B21-C21,G20),0) -> 24.638059 | E21: =IF(G20-D21>=$B$7,$B$7,G20-D21) -> 0 | G21: =IF(ROUND(G20,5)>0,G20-D21-E21,0) -> 19829.666
A22: 8 | B22: =IF($B$6<=G21,$B$6,G21+G21*$B$4/$B$5) -> 107.36432 | C22: =IF(B22>0,$B$4/$B$5*G21,0) -> 82.623607 | D22: =IF(B22>0,MIN(B22-C22,G21),0) -> 24.740718 | E22: =IF(G21-D22>=$B$7,$B$7,G21-D22) -> 0 | G22: =IF(ROUND(G21,5)>0,G21-D22-E22,0) -> 19804.925
A23: 9 | B23: =IF($B$6<=G22,$B$6,G22+G22*$B$4/$B$5) -> 107.36432 | C23: =IF(B23>0,$B$4/$B$5*G22,0) -> 82.520521 | D23: =IF(B23>0,MIN(B23-C23,G22),0) -> 24.843804 | E23: =IF(G22-D23>=$B$7,$B$7,G22-D23) -> 0 | G23: =IF(ROUND(G22,5)>0,G22-D23-E23,0) -> 19780.081
A24: 10 | B24: =IF($B$6<=G23,$B$6,G23+G23*$B$4/$B$5) -> 107.36432 | C24: =IF(B24>0,$B$4/$B$5*G23,0) -> 82.417005 | D24: =IF(B24>0,MIN(B24-C24,G23),0) -> 24.94732 | E24: =IF(G23-D24>=$B$7,$B$7,G23-D24) -> 0 | G24: =IF(ROUND(G23,5)>0,G23-D24-E24,0) -> 19755.134
A25: 11 | B25: =IF($B$6<=G24,$B$6,G24+G24*$B$4/$B$5) -> 107.36432 | C25: =IF(B25>0,$B$4/$B$5*G24,0) -> 82.313058 | D25: =IF(B25>0,MIN(B25-C25,G24),0) -> 25.051267 | E25: =IF(G24-D25>=$B$7,$B$7,G24-D25) -> 0 | G25: =IF(ROUND(G24,5)>0,G24-D25-E25,0) -> 19730.083
A26: 12 | B26: =IF($B$6<=G25,$B$6,G25+G25*$B$4/$B$5) -> 107.36432 | C26: =IF(B26>0,$B$4/$B$5*G25,0) -> 82.208677 | D26: =IF(B26>0,MIN(B26-C26,G25),0) -> 25.155647 | E26: =IF(G25-D26>=$B$7,$B$7,G25-D26) -> 0 | G26: =IF(ROUND(G25,5)>0,G25-D26-E26,0) -> 19704.927 | H26: =SUM(D15:D26) -> 295.07307
A27: 13 | B27: =IF($B$6<=G26,$B$6,G26+G26*$B$4/$B$5) -> 107.36432 | C27: =IF(B27>0,$B$4/$B$5*G26,0) -> 82.103862 | D27: =IF(B27>0,MIN(B27-C27,G26),0) -> 25.260462 | E27: =IF(G26-D27>=$B$7,$B$7,G26-D27)+H27 -> 0 | G27: =IF(ROUND(G26,5)>0,G26-D27-E27,0) -> 19679.666
A28: 14 | B28: =IF($B$6<=G27,$B$6,G27+G27*$B$4/$B$5) -> 107.36432 | C28: =IF(B28>0,$B$4/$B$5*G27,0) -> 81.99861 | D28: =IF(B28>0,MIN(B28-C28,G27),0) -> 25.365714 | E28: =IF(G27-D28>=$B$7,E27,G27-D28) -> 0 | G28: =IF(ROUND(G27,5)>0,G27-D28-E28,0) -> 19654.301
A29: 15 | B29: =IF($B$6<=G28,$B$6,G28+G28*$B$4/$B$5) -> 107.36432 | C29: =IF(B29>0,$B$4/$B$5*G28,0) -> 81.89292 | D29: =IF(B29>0,MIN(B29-C29,G28),0) -> 25.471405 | E29: =IF(G28-D29>=$B$7,E28,G28-D29) -> 0 | G29: =IF(ROUND(G28,5)>0,G28-D29-E29,0) -> 19628.829
A30: 16 | B30: =IF($B$6<=G29,$B$6,G29+G29*$B$4/$B$5) -> 107.36432 | C30: =IF(B30>0,$B$4/$B$5*G29,0) -> 81.786789 | D30: =IF(B30>0,MIN(B30-C30,G29),0) -> 25.577536 | E30: =IF(G29-D30>=$B$7,E29,G29-D30) -> 0 | G30: =IF(ROUND(G29,5)>0,G29-D30-E30,0) -> 19603.252
A31: 17 | B31: =IF($B$6<=G30,$B$6,G30+G30*$B$4/$B$5) -> 107.36432 | C31: =IF(B31>0,$B$4/$B$5*G30,0) -> 81.680216 | D31: =IF(B31>0,MIN(B31-C31,G30),0) -> 25.684109 | E31: =IF(G30-D31>=$B$7,E30,G30-D31) -> 0 | G31: =IF(ROUND(G30,5)>0,G30-D31-E31,0) -> 19577.568
A32: 18 | B32: =IF($B$6<=G31,$B$6,G31+G31*$B$4/$B$5) -> 107.36432 | C32: =IF(B32>0,$B$4/$B$5*G31,0) -> 81.573199 | D32: =IF(B32>0,MIN(B32-C32,G31),0) -> 25.791126 | E32: =IF(G31-D32>=$B$7,E31,G31-D32) -> 0 | G32: =IF(ROUND(G31,5)>0,G31-D32-E32,0) -> 19551.777
A33: 19 | B33: =IF($B$6<=G32,$B$6,G32+G32*$B$4/$B$5) -> 107.36432 | C33: =IF(B33>0,$B$4/$B$5*G32,0) -> 81.465736 | D33: =IF(B33>0,MIN(B33-C33,G32),0) -> 25.898589 | E33: =IF(G32-D33>=$B$7,E32,G32-D33) -> 0 | G33: =IF(ROUND(G32,5)>0,G32-D33-E33,0) -> 19525.878
A34: 20 | B34: =IF($B$6<=G33,$B$6,G33+G33*$B$4/$B$5) -> 107.36432 | C34: =IF(B34>0,$B$4/$B$5*G33,0) -> 81.357825 | D34: =IF(B34>0,MIN(B34-C34,G33),0) -> 26.0065 | E34: =IF(G33-D34>=$B$7,E33,G33-D34) -> 0 | G34: =IF(ROUND(G33,5)>0,G33-D34-E34,0) -> 19499.871
A35: 21 | B35: =IF($B$6<=G34,$B$6,G34+G34*$B$4/$B$5) -> 107.36432 | C35: =IF(B35>0,$B$4/$B$5*G34,0) -> 81.249465 | D35: =IF(B35>0,MIN(B35-C35,G34),0) -> 26.11486 | E35: =IF(G34-D35>=$B$7,E34,G34-D35) -> 0 | G35: =IF(ROUND(G34,5)>0,G34-D35-E35,0) -> 19473.757
A36: 22 | B36: =IF($B$6<=G35,$B$6,G35+G35*$B$4/$B$5) -> 107.36432 | C36: =IF(B36>0,$B$4/$B$5*G35,0) -> 81.140653 | D36: =IF(B36>0,MIN(B36-C36,G35),0) -> 26.223672 | E36: =IF(G35-D36>=$B$7,E35,G35-D36) -> 0 | G36: =IF(ROUND(G35,5)>0,G35-D36-E36,0) -> 19447.533
A37: 23 | B37: =IF($B$6<=G36,$B$6,G36+G36*$B$4/$B$5) -> 107.36432 | C37: =IF(B37>0,$B$4/$B$5*G36,0) -> 81.031387 | D37: =IF(B37>0,MIN(B37-C37,G36),0) -> 26.332937 | E37: =IF(G36-D37>=$B$7,E36,G36-D37) -> 0 | G37: =IF(ROUND(G36,5)>0,G36-D37-E37,0) -> 19421.2
A38: 24 | B38: =IF($B$6<=G37,$B$6,G37+G37*$B$4/$B$5) -> 107.36432 | C38: =IF(B38>0,$B$4/$B$5*G37,0) -> 80.921667 | D38: =IF(B38>0,MIN(B38-C38,G37),0) -> 26.442658 | E38: =IF(G37-D38>=$B$7,E37,G37-D38) -> 0 | G38: =IF(ROUND(G37,5)>0,G37-D38-E38,0) -> 19394.757 | H38: =SUM(D27:D38) -> 310.16957
A39: 25 | B39: =IF($B$6<=G38,$B$6,G38+G38*$B$4/$B$5) -> 107.36432 | C39: =IF(B39>0,$B$4/$B$5*G38,0) -> 80.811489 | D39: =IF(B39>0,MIN(B39-C39,G38),0) -> 26.552836 | E39: =IF(G38-D39>=$B$7,$B$7,G38-D39)+H39 -> 0 | G39: =IF(ROUND(G38,5)>0,G38-D39-E39,0) -> 19368.205
A40: 26 | B40: =IF($B$6<=G39,$B$6,G39+G39*$B$4/$B$5) -> 107.36432 | C40: =IF(B40>0,$B$4/$B$5*G39,0) -> 80.700852 | D40: =IF(B40>0,MIN(B40-C40,G39),0) -> 26.663472 | E40: =IF(G39-D40>=$B$7,E39,G39-D40) -> 0 | G40: =IF(ROUND(G39,5)>0,G39-D40-E40,0) -> 19341.541
